BEGIN:VCALENDAR
VERSION:2.0
PRODID:-//LEATHER &amp; LGBTQ Cultural District - ECPv6.15.20//NONSGML v1.0//EN
CALSCALE:GREGORIAN
METHOD:PUBLISH
X-ORIGINAL-URL:https://sfleatherdistrict.org
X-WR-CALDESC:Events for LEATHER &amp; LGBTQ Cultural District
REFRESH-INTERVAL;VALUE=DURATION:PT1H
X-Robots-Tag:noindex
X-PUBLISHED-TTL:PT1H
BEGIN:VTIMEZONE
TZID:America/Los_Angeles
BEGIN:DAYLIGHT
TZOFFSETFROM:-0800
TZOFFSETTO:-0700
TZNAME:PDT
DTSTART:20240310T100000
END:DAYLIGHT
BEGIN:STANDARD
TZOFFSETFROM:-0700
TZOFFSETTO:-0800
TZNAME:PST
DTSTART:20241103T090000
END:STANDARD
BEGIN:DAYLIGHT
TZOFFSETFROM:-0800
TZOFFSETTO:-0700
TZNAME:PDT
DTSTART:20250309T100000
END:DAYLIGHT
BEGIN:STANDARD
TZOFFSETFROM:-0700
TZOFFSETTO:-0800
TZNAME:PST
DTSTART:20251102T090000
END:STANDARD
BEGIN:DAYLIGHT
TZOFFSETFROM:-0800
TZOFFSETTO:-0700
TZNAME:PDT
DTSTART:20260308T100000
END:DAYLIGHT
BEGIN:STANDARD
TZOFFSETFROM:-0700
TZOFFSETTO:-0800
TZNAME:PST
DTSTART:20261101T090000
END:STANDARD
END:VTIMEZONE
BEGIN:VEVENT
DTSTART;TZID=America/Los_Angeles:20251217T180000
DTEND;TZID=America/Los_Angeles:20251217T200000
DTSTAMP:20260424T190707
CREATED:20241030T235123Z
LAST-MODIFIED:20251217T213255Z
UID:20274-1765994400-1766001600@sfleatherdistrict.org
SUMMARY:CANCELED: LCD Board of Directors Meeting
DESCRIPTION:Board of Directors Meeting \nThe Board of Directors will not be meeting in December. Enjoy your holidays and we’ll see you on Wednesday\, January 21. \nPlease join us remotely via Zoom:\nhttp://us02web.zoom.us/j/84789060820…\nYou can also call 1 669 900 6833 US (San Jose) and use Meeting ID: 847 8906 0820\nPasscode: 972086\nOne tap mobile (Or find your local number: https://us02web.zoom.us/u/kl0fPTq3u)\nBoard meeting minutes will be available after they are approved at the following meeting. \nFor more info\, visit http://www.sflcd.org.
URL:https://sfleatherdistrict.org/event/lcd-board-of-directors-meeting-40/
LOCATION:584 Castro St #140\, San Francisco\, CA\, United States\, California 94114
CATEGORIES:Committee Meetings
ATTACH;FMTTYPE=image/jpeg:https://sfleatherdistrict.org/wp-content/uploads/2024/10/20274_image_485609433_1070216015147459_1780468629441346446_n.jpg
END:VEVENT
END:VCALENDAR