BEGIN:VCALENDAR
VERSION:2.0
PRODID:-//LEATHER &amp; LGBTQ Cultural District - ECPv6.15.20//NONSGML v1.0//EN
CALSCALE:GREGORIAN
METHOD:PUBLISH
X-WR-CALNAME:LEATHER &amp; LGBTQ Cultural District
X-ORIGINAL-URL:https://sfleatherdistrict.org
X-WR-CALDESC:Events for LEATHER &amp; LGBTQ Cultural District
REFRESH-INTERVAL;VALUE=DURATION:PT1H
X-Robots-Tag:noindex
X-PUBLISHED-TTL:PT1H
BEGIN:VTIMEZONE
TZID:America/Los_Angeles
BEGIN:DAYLIGHT
TZOFFSETFROM:-0800
TZOFFSETTO:-0700
TZNAME:PDT
DTSTART:20240310T100000
END:DAYLIGHT
BEGIN:STANDARD
TZOFFSETFROM:-0700
TZOFFSETTO:-0800
TZNAME:PST
DTSTART:20241103T090000
END:STANDARD
BEGIN:DAYLIGHT
TZOFFSETFROM:-0800
TZOFFSETTO:-0700
TZNAME:PDT
DTSTART:20250309T100000
END:DAYLIGHT
BEGIN:STANDARD
TZOFFSETFROM:-0700
TZOFFSETTO:-0800
TZNAME:PST
DTSTART:20251102T090000
END:STANDARD
BEGIN:DAYLIGHT
TZOFFSETFROM:-0800
TZOFFSETTO:-0700
TZNAME:PDT
DTSTART:20260308T100000
END:DAYLIGHT
BEGIN:STANDARD
TZOFFSETFROM:-0700
TZOFFSETTO:-0800
TZNAME:PST
DTSTART:20261101T090000
END:STANDARD
END:VTIMEZONE
BEGIN:VEVENT
DTSTART;TZID=America/Los_Angeles:20251213T170000
DTEND;TZID=America/Los_Angeles:20251213T210000
DTSTAMP:20260424T190708
CREATED:20251126T235138Z
LAST-MODIFIED:20251213T235139Z
UID:22966-1765645200-1765659600@sfleatherdistrict.org
SUMMARY:Kinky Holiday Market
DESCRIPTION:We’re back! Bringing our usual Kinky Holiday Market energy (featuring local kinky and queer vendors) into a District Night Market. \nFollowed by FESTIVE AS F*CK – a year-end revelry\, in partnership with the SF Street Fair Coalition. \nVendors!Entertainment!Gear Swap!\nIndoors! \nTwisted Windows – Admire Bondage performances. Plus DJs\, and more\nNaughty Santa – photo booth with Kinky Elves! \nGear Swap n Shop – Browse for gifts (maybe even for yourself) that you can’t get anywhere else.\nDonate used fetish gear/leather/toys to raise money for the District\,\nIf you’ve got fetish gear/wear you’re not feeling it anymore\, bring it! \nSupport the work of the Leather Cultural District with a donation\nSuggested donation\, $5-$10 (optional – market only)\nBenefits the Leather District and SFSFC \nThe market is an adult\, leather/kink community event produced by the world’s first and only LEATHER & LGBTQ Cultural District!\nFollowing our Kinky Holiday Market is FESTIVE AS F*CK – a year-end revelry\, in partnership with the SF Street Fair Coalition (Folsom / Dore / Castro / Pride / Turnout). \nAdmire performances with Twisted Windows\, local drag royalty\, epic DJs\, and so much more \nGet a taste of each iconic street fair that makes up the Coalition while getting your gift shopping done \nSome kinky market vendors (but not all) will stay until midnight\nParcel Check Available \nParty Tickets (link coming soon!) for the WHOLE party are sliding scale $75-150 and include an experience that’s like several of SF’s biggest and best street parties rolled into one! \nHeads up – this is a non-smoking event for folks ages 18+(Market) / 21+(Party).\nIf you want to drink\, please bring your valid ID. \nWhile there’s no dress code\, the bar will be serving and so should you!
URL:https://sfleatherdistrict.org/event/kinky-holiday-market/
LOCATION:SOMArts Cultural Center\, 934 Brannan St\, San Francisco\, CA\, 94103\, US
CATEGORIES:Committee Meetings
ATTACH;FMTTYPE=image/jpeg:https://sfleatherdistrict.org/wp-content/uploads/2025/11/22966_image_589916688_1276195161216209_3140232021978295778_n.jpg
END:VEVENT
BEGIN:VEVENT
DTSTART;TZID=America/Los_Angeles:20251213T170000
DTEND;TZID=America/Los_Angeles:20251214T020000
DTSTAMP:20260424T190708
CREATED:20251208T235140Z
LAST-MODIFIED:20251213T235139Z
UID:22995-1765645200-1765677600@sfleatherdistrict.org
SUMMARY:Festive as F*ck
DESCRIPTION:🪩🎉 Close out the year feeling Festive As F*ck with our first-ever\, full-throttle celebration of the brand-new SF Street Fair Coalition! \n🎁 Join the SFSFC and the SF Leather District for a gloriously queer\, gloriously extra holiday market and dance party. Support local queer and trans artists and makers with your holiday gift purchases this year! \n❕AND\, as a token of our appreciation\, the SFSFC’s volunteers (including volunteers for Castro Street Fair\, Folsom Street Fair\, TurnOut\, and SF Pride) will get FREE tickets to the event! If you have supported any LGBTQ+ organization this year as a volunteer\, staff member\, board member\, or donor\, you get 1/2 off general admission! \n🔗 Click the link in our bio to purchase tickets\, and head to the bottom of the “overview” section to learn how to secure your free or discounted ticket if you’ve supported an LGBTQ event this year.
URL:https://sfleatherdistrict.org/event/festive-as-fck/
LOCATION:SOMArts
CATEGORIES:Committee Meetings
ATTACH;FMTTYPE=image/jpeg:https://sfleatherdistrict.org/wp-content/uploads/2025/12/22995_image_595068692_1128392409459825_7457232302820134448_n.jpg
END:VEVENT
END:VCALENDAR