BEGIN:VCALENDAR
VERSION:2.0
PRODID:-//LEATHER &amp; LGBTQ Cultural District - ECPv6.15.20//NONSGML v1.0//EN
CALSCALE:GREGORIAN
METHOD:PUBLISH
X-ORIGINAL-URL:https://sfleatherdistrict.org
X-WR-CALDESC:Events for LEATHER &amp; LGBTQ Cultural District
REFRESH-INTERVAL;VALUE=DURATION:PT1H
X-Robots-Tag:noindex
X-PUBLISHED-TTL:PT1H
BEGIN:VTIMEZONE
TZID:America/Los_Angeles
BEGIN:DAYLIGHT
TZOFFSETFROM:-0800
TZOFFSETTO:-0700
TZNAME:PDT
DTSTART:20240310T100000
END:DAYLIGHT
BEGIN:STANDARD
TZOFFSETFROM:-0700
TZOFFSETTO:-0800
TZNAME:PST
DTSTART:20241103T090000
END:STANDARD
BEGIN:DAYLIGHT
TZOFFSETFROM:-0800
TZOFFSETTO:-0700
TZNAME:PDT
DTSTART:20250309T100000
END:DAYLIGHT
BEGIN:STANDARD
TZOFFSETFROM:-0700
TZOFFSETTO:-0800
TZNAME:PST
DTSTART:20251102T090000
END:STANDARD
BEGIN:DAYLIGHT
TZOFFSETFROM:-0800
TZOFFSETTO:-0700
TZNAME:PDT
DTSTART:20260308T100000
END:DAYLIGHT
BEGIN:STANDARD
TZOFFSETFROM:-0700
TZOFFSETTO:-0800
TZNAME:PST
DTSTART:20261101T090000
END:STANDARD
END:VTIMEZONE
BEGIN:VEVENT
DTSTART;TZID=America/Los_Angeles:20250928T110000
DTEND;TZID=America/Los_Angeles:20250928T180000
DTSTAMP:20260425T112237
CREATED:20250707T235144Z
LAST-MODIFIED:20250928T235145Z
UID:22331-1759057200-1759082400@sfleatherdistrict.org
SUMMARY:Folsom Street Fair Bondage Stage
DESCRIPTION:7 hours…over 50 sets…over 100 performers…don’t miss a moment of the 2025 @FolsomStreet Fair Bondage Stage! \nThe Folsom Street Fair is celebrating 42 years of filth! \nThe bondage stage is located on 11th St between Folsom and Howard\, and will be going hard from 11am till 6pm. \nCelebrate community\, connection\, support\, and sexual liberation for ALL at the Folsom Street Fair. Captivating scenes\, demos\, and performance art combine on the streets of San Francisco as the @Kinkpocbayarea and @TwistedWindows Bondage Stage manifests the risqué rope that has long been a Folsom Street Fair highlight. Our outstanding bondage performers represent the best of the Bay Area community and acclaimed practitioners from across the US. \nThe bondage stage is produced by Ivy Limieux & Shay Tiziano
URL:https://sfleatherdistrict.org/event/folsom-street-fair-bondage-stage/
LOCATION:Folsom St\, San Francisco\, CA 94103\, United States
CATEGORIES:Committee Meetings
ATTACH;FMTTYPE=image/jpeg:https://sfleatherdistrict.org/wp-content/uploads/2025/07/22331_image_514970233_1520011259308650_5211645120326763730_n.jpg
END:VEVENT
END:VCALENDAR