BEGIN:VCALENDAR
VERSION:2.0
PRODID:-//LEATHER &amp; LGBTQ Cultural District - ECPv6.15.20//NONSGML v1.0//EN
CALSCALE:GREGORIAN
METHOD:PUBLISH
X-WR-CALNAME:LEATHER &amp; LGBTQ Cultural District
X-ORIGINAL-URL:https://sfleatherdistrict.org
X-WR-CALDESC:Events for LEATHER &amp; LGBTQ Cultural District
REFRESH-INTERVAL;VALUE=DURATION:PT1H
X-Robots-Tag:noindex
X-PUBLISHED-TTL:PT1H
BEGIN:VTIMEZONE
TZID:America/Los_Angeles
BEGIN:DAYLIGHT
TZOFFSETFROM:-0800
TZOFFSETTO:-0700
TZNAME:PDT
DTSTART:20240310T100000
END:DAYLIGHT
BEGIN:STANDARD
TZOFFSETFROM:-0700
TZOFFSETTO:-0800
TZNAME:PST
DTSTART:20241103T090000
END:STANDARD
BEGIN:DAYLIGHT
TZOFFSETFROM:-0800
TZOFFSETTO:-0700
TZNAME:PDT
DTSTART:20250309T100000
END:DAYLIGHT
BEGIN:STANDARD
TZOFFSETFROM:-0700
TZOFFSETTO:-0800
TZNAME:PST
DTSTART:20251102T090000
END:STANDARD
BEGIN:DAYLIGHT
TZOFFSETFROM:-0800
TZOFFSETTO:-0700
TZNAME:PDT
DTSTART:20260308T100000
END:DAYLIGHT
BEGIN:STANDARD
TZOFFSETFROM:-0700
TZOFFSETTO:-0800
TZNAME:PST
DTSTART:20261101T090000
END:STANDARD
END:VTIMEZONE
BEGIN:VEVENT
DTSTART;TZID=America/Los_Angeles:20250927T193000
DTEND;TZID=America/Los_Angeles:20250927T235500
DTSTAMP:20260425T112110
CREATED:20250619T235146Z
LAST-MODIFIED:20250927T235143Z
UID:22171-1759001400-1759017300@sfleatherdistrict.org
SUMMARY:Folsom Gala
DESCRIPTION:An extravagant gala celebrating Folsom Street Fair weekend. Featuring exquisitely er0tic\, sensually subversive\, and distinctly daring queer performance art\, including aerial acrobatics\, suspension b0ndage\, p0le dance\, and fet!sh acts\, as well as interactive and display art. \nOur signature immersive experience surrounding you with unique\, exceptional performances.
URL:https://sfleatherdistrict.org/event/folsom-gala/
LOCATION:SOMArts Cultural Center\, 934 Brannan St\, San Francisco\, CA\, 94103\, US
CATEGORIES:Committee Meetings
ATTACH;FMTTYPE=image/jpeg:https://sfleatherdistrict.org/wp-content/uploads/2025/06/22171_image_509418949_1508207117155731_5363393490244910395_n.jpg
END:VEVENT
END:VCALENDAR