BEGIN:VCALENDAR
VERSION:2.0
PRODID:-//LEATHER &amp; LGBTQ Cultural District - ECPv6.15.20//NONSGML v1.0//EN
CALSCALE:GREGORIAN
METHOD:PUBLISH
X-ORIGINAL-URL:https://sfleatherdistrict.org
X-WR-CALDESC:Events for LEATHER &amp; LGBTQ Cultural District
REFRESH-INTERVAL;VALUE=DURATION:PT1H
X-Robots-Tag:noindex
X-PUBLISHED-TTL:PT1H
BEGIN:VTIMEZONE
TZID:America/Los_Angeles
BEGIN:DAYLIGHT
TZOFFSETFROM:-0800
TZOFFSETTO:-0700
TZNAME:PDT
DTSTART:20240310T100000
END:DAYLIGHT
BEGIN:STANDARD
TZOFFSETFROM:-0700
TZOFFSETTO:-0800
TZNAME:PST
DTSTART:20241103T090000
END:STANDARD
BEGIN:DAYLIGHT
TZOFFSETFROM:-0800
TZOFFSETTO:-0700
TZNAME:PDT
DTSTART:20250309T100000
END:DAYLIGHT
BEGIN:STANDARD
TZOFFSETFROM:-0700
TZOFFSETTO:-0800
TZNAME:PST
DTSTART:20251102T090000
END:STANDARD
BEGIN:DAYLIGHT
TZOFFSETFROM:-0800
TZOFFSETTO:-0700
TZNAME:PDT
DTSTART:20260308T100000
END:DAYLIGHT
BEGIN:STANDARD
TZOFFSETFROM:-0700
TZOFFSETTO:-0800
TZNAME:PST
DTSTART:20261101T090000
END:STANDARD
END:VTIMEZONE
BEGIN:VEVENT
DTSTART;TZID=America/Los_Angeles:20250926T200000
DTEND;TZID=America/Los_Angeles:20250927T010000
DTSTAMP:20260425T112236
CREATED:20250619T235147Z
LAST-MODIFIED:20250926T235144Z
UID:22173-1758916800-1758934800@sfleatherdistrict.org
SUMMARY:Folsom F0replay
DESCRIPTION:Come see\, be seen\, and scene as we kick off Folsom Street Fair weekend with a spicy party! Dual Demons & Twisted Windows invite you to enter our interactive haven and immerse yourself in daring activities within an er0tic\, subversive atmosphere. Well-appointed space with suspension points\, play equiptment\, and plenty of intimate horizontal areas.
URL:https://sfleatherdistrict.org/event/folsom-f0replay/
LOCATION:224 6th St\, San Francisco\, CA 94103-4012\, United States
CATEGORIES:Committee Meetings
ATTACH;FMTTYPE=image/jpeg:https://sfleatherdistrict.org/wp-content/uploads/2025/06/22173_image_509422494_1508211697155273_4352343201126027841_n.jpg
END:VEVENT
END:VCALENDAR