BEGIN:VCALENDAR
VERSION:2.0
PRODID:-//LEATHER &amp; LGBTQ Cultural District - ECPv6.15.20//NONSGML v1.0//EN
CALSCALE:GREGORIAN
METHOD:PUBLISH
X-WR-CALNAME:LEATHER &amp; LGBTQ Cultural District
X-ORIGINAL-URL:https://sfleatherdistrict.org
X-WR-CALDESC:Events for LEATHER &amp; LGBTQ Cultural District
REFRESH-INTERVAL;VALUE=DURATION:PT1H
X-Robots-Tag:noindex
X-PUBLISHED-TTL:PT1H
BEGIN:VTIMEZONE
TZID:America/Los_Angeles
BEGIN:DAYLIGHT
TZOFFSETFROM:-0800
TZOFFSETTO:-0700
TZNAME:PDT
DTSTART:20240310T100000
END:DAYLIGHT
BEGIN:STANDARD
TZOFFSETFROM:-0700
TZOFFSETTO:-0800
TZNAME:PST
DTSTART:20241103T090000
END:STANDARD
BEGIN:DAYLIGHT
TZOFFSETFROM:-0800
TZOFFSETTO:-0700
TZNAME:PDT
DTSTART:20250309T100000
END:DAYLIGHT
BEGIN:STANDARD
TZOFFSETFROM:-0700
TZOFFSETTO:-0800
TZNAME:PST
DTSTART:20251102T090000
END:STANDARD
BEGIN:DAYLIGHT
TZOFFSETFROM:-0800
TZOFFSETTO:-0700
TZNAME:PDT
DTSTART:20260308T100000
END:DAYLIGHT
BEGIN:STANDARD
TZOFFSETFROM:-0700
TZOFFSETTO:-0800
TZNAME:PST
DTSTART:20261101T090000
END:STANDARD
END:VTIMEZONE
BEGIN:VEVENT
DTSTART;TZID=America/Los_Angeles:20250921T103000
DTEND;TZID=America/Los_Angeles:20250921T150000
DTSTAMP:20260425T112110
CREATED:20250822T235145Z
LAST-MODIFIED:20250920T235148Z
UID:22660-1758450600-1758466800@sfleatherdistrict.org
SUMMARY:LeatherWalk 2025
DESCRIPTION:Bring Your Kink. Step Out. Give Back.\nOUR STREETS. OUR STORY. OUR STRENGTH. \nSTAND TOGETHER – GEAR ON\nUnity protects us. Walk with us from City Hall to Eagle Plaza to protect our leather\, kink\, and queer spaces. Enjoy entertainment\, music\, and refreshment stops along the way. \nCELEBRATE COMMUNITY – STEP OUT\nJoin fellow leather\, kink\, & queer community members in our joyful celebration ending with a Leather Pride Flag raising: a symbol of visibility and resistance. \nSUPPORT THE DISTRICT – GIVE BACK\nWalkers are encouraged to fundraise or make a meaningful donation supporting the LEATHER & LGBTQ Cultural District — We exist to ensure there is a lively and vibrant home for our community of events\, businesses\, bars & organizations in SOMA. \nWALK YOUR WAY\nRegistration is free and open to all — fundraising is welcome\, not required. Walk solo or with a team\, and know that every step you take helps preserve the spaces\, stories\, and culture that keep our community thriving. \nWe will have an ADA vehicle courtesy of Fogcutter Tours for those who cannot walk the entire route. It is hop-on\, hop-off at our scheduled stops for those who wish to walk parts of the Walk\, but not the entire way. Space is limited; please reserve your spot by emailing Cal at manager@sflcd.org. \nleatherwalk.org
URL:https://sfleatherdistrict.org/event/leatherwalk-2025/
LOCATION:San Francisco City Hall
CATEGORIES:Committee Meetings
ATTACH;FMTTYPE=image/jpeg:https://sfleatherdistrict.org/wp-content/uploads/2025/08/22660_image_539231425_1197105572458502_6573111146077931110_n.jpg
END:VEVENT
BEGIN:VEVENT
DTSTART;TZID=America/Los_Angeles:20250921T120000
DTEND;TZID=America/Los_Angeles:20250921T120000
DTSTAMP:20260425T112110
CREATED:20250917T235148Z
LAST-MODIFIED:20250920T235148Z
UID:22762-1758456000-1758456000@sfleatherdistrict.org
SUMMARY:Leather Pride Fest 2025
DESCRIPTION:Join us for the official kick off to Leather Week as the SF Eagle brings youLeather Pride Fest 2025! A Block Party hosted by BAAAHS featuring music by DADSF! \nStarting with LeatherWalk 2025 at 10:30 am at City Hall\, windingthrough SOMA and arrives at Eagle Plaza for the raising of the Leather Pride Flag where the BAAAHS Bus will have the party dancing in the streets until 7pm!
URL:https://sfleatherdistrict.org/event/leather-pride-fest-2025/
LOCATION:SF Eagle
CATEGORIES:Committee Meetings
ATTACH;FMTTYPE=image/jpeg:https://sfleatherdistrict.org/wp-content/uploads/2025/09/22762_image_548277306_1227561742742154_4394552983212970217_n.jpg
END:VEVENT
END:VCALENDAR