BEGIN:VCALENDAR
VERSION:2.0
PRODID:-//LEATHER &amp; LGBTQ Cultural District - ECPv6.15.20//NONSGML v1.0//EN
CALSCALE:GREGORIAN
METHOD:PUBLISH
X-WR-CALNAME:LEATHER &amp; LGBTQ Cultural District
X-ORIGINAL-URL:https://sfleatherdistrict.org
X-WR-CALDESC:Events for LEATHER &amp; LGBTQ Cultural District
REFRESH-INTERVAL;VALUE=DURATION:PT1H
X-Robots-Tag:noindex
X-PUBLISHED-TTL:PT1H
BEGIN:VTIMEZONE
TZID:America/Los_Angeles
BEGIN:DAYLIGHT
TZOFFSETFROM:-0800
TZOFFSETTO:-0700
TZNAME:PDT
DTSTART:20240310T100000
END:DAYLIGHT
BEGIN:STANDARD
TZOFFSETFROM:-0700
TZOFFSETTO:-0800
TZNAME:PST
DTSTART:20241103T090000
END:STANDARD
BEGIN:DAYLIGHT
TZOFFSETFROM:-0800
TZOFFSETTO:-0700
TZNAME:PDT
DTSTART:20250309T100000
END:DAYLIGHT
BEGIN:STANDARD
TZOFFSETFROM:-0700
TZOFFSETTO:-0800
TZNAME:PST
DTSTART:20251102T090000
END:STANDARD
BEGIN:DAYLIGHT
TZOFFSETFROM:-0800
TZOFFSETTO:-0700
TZNAME:PDT
DTSTART:20260308T100000
END:DAYLIGHT
BEGIN:STANDARD
TZOFFSETFROM:-0700
TZOFFSETTO:-0800
TZNAME:PST
DTSTART:20261101T090000
END:STANDARD
END:VTIMEZONE
BEGIN:VEVENT
DTSTART;TZID=America/Los_Angeles:20251103T180000
DTEND;TZID=America/Los_Angeles:20251103T190000
DTSTAMP:20260424T204354
CREATED:20250620T235145Z
LAST-MODIFIED:20251103T235143Z
UID:22194-1762192800-1762196400@sfleatherdistrict.org
SUMMARY:LCD: Safety Committee Meeting
DESCRIPTION:The Safety Committee works with local residents—including kinksters\, sex workers\, and others across the spectrum of our diverse community—to promote safety\, share resources\, and foster strong district-wide connections. The committee organizes safety and tech-related resources into an accessible online hub\, keeps neighbors informed about upcoming events\, and invites broad participation in conversations on public safety. Through inclusive outreach and relationship-building\, the committee supports a safer\, more informed\, and more connected district for all.\nJoin the meeting via Zoom at https://us02web.zoom.us/j/85129572088
URL:https://sfleatherdistrict.org/event/lcd-safety-committee-meeting-2/
LOCATION:584 Castro St #140\, San Francisco\, CA\, United States\, California 94114
CATEGORIES:Committee Meetings
ATTACH;FMTTYPE=image/jpeg:https://sfleatherdistrict.org/wp-content/uploads/2025/06/22194_image_509845218_1142037287965331_3894391541050757250_n.jpg
END:VEVENT
BEGIN:VEVENT
DTSTART;TZID=America/Los_Angeles:20251107T200000
DTEND;TZID=America/Los_Angeles:20251108T010000
DTSTAMP:20260424T204354
CREATED:20251011T235142Z
LAST-MODIFIED:20251107T235142Z
UID:22834-1762545600-1762563600@sfleatherdistrict.org
SUMMARY:Thirst
DESCRIPTION:Give in to your thirst for touch and ties; come see\, be seen\, and scene at a high-energy play party by Dual Demons & Twisted Windows! Coming off a sold-out Folsom Foreplay event\, we’ll keep the vibes rolling – same well-appointed\, sensual space\, with daring activities within an er0tic atmosphere. Truss-based suspension points\, mixer activities\, play equipment\, lots of s3xy horizontal areas\, and cuddle puddle zones.  \nDetails at the ticket link: https://forbiddentickets.com/events/twisted-windows/bddc7bc875
URL:https://sfleatherdistrict.org/event/thirst/
LOCATION:224 6th St\, San Francisco\, CA 94103-4012\, United States
CATEGORIES:Committee Meetings
ATTACH;FMTTYPE=image/jpeg:https://sfleatherdistrict.org/wp-content/uploads/2025/10/22834_image_559891860_1608605920449183_1184887101403805637_n.jpg
END:VEVENT
BEGIN:VEVENT
DTSTART;TZID=America/Los_Angeles:20251110T180000
DTEND;TZID=America/Los_Angeles:20251110T190000
DTSTAMP:20260424T204354
CREATED:20241202T235124Z
LAST-MODIFIED:20251109T235141Z
UID:20594-1762797600-1762801200@sfleatherdistrict.org
SUMMARY:LCD: Membership Committee Meeting
DESCRIPTION:The Membership Committee guides efforts to increase District membership with an emphasis on representing all members of our community. \nSecond Mondays at 6 pm Pacific Time \nJoin us on Zoom:\nhttps://us02web.zoom.us/j/87865884248 \nFunctions of this Committee:\nMembership drive and process  \nHope you can join us!
URL:https://sfleatherdistrict.org/event/lcd-diversity-membership-committee-meeting-39/
LOCATION:LEATHER & LGBTQ Cultural District
CATEGORIES:Committee Meetings
ATTACH;FMTTYPE=image/jpeg:https://sfleatherdistrict.org/wp-content/uploads/2024/12/20594_image_487089417_1075839684585092_3010184496203100059_n.jpg
END:VEVENT
BEGIN:VEVENT
DTSTART;TZID=America/Los_Angeles:20251112T180000
DTEND;TZID=America/Los_Angeles:20251112T190000
DTSTAMP:20260424T204354
CREATED:20241030T235128Z
LAST-MODIFIED:20251112T235141Z
UID:20284-1762970400-1762974000@sfleatherdistrict.org
SUMMARY:LCD: Communications Committee Meeting
DESCRIPTION:This month’s Communications Committee has been re-scheduled to Wednesday\, November 12. We hope you can join us. \nThe Communications Committee plans and guides the messaging and branding decisions for the District. \nJoin via Zoom Link:\nhttps://us02web.zoom.us/j/84039453815\nJoin by phone:\n1 669 900 6833\nMeeting ID: 840 3945 3815 \nPlease contact the committee chairs\, Bob Brown and Alicia (AB) Bee with any questions: bob.brown@sflcd.org\, aleciaburley@sflcd.org.
URL:https://sfleatherdistrict.org/event/lcd-communications-committee-meeting-4/
LOCATION:584 Castro St #140\, San Francisco\, CA\, United States\, California 94114
CATEGORIES:Committee Meetings
ATTACH;FMTTYPE=image/jpeg:https://sfleatherdistrict.org/wp-content/uploads/2024/10/20284_image_485645474_1070216341814093_3182352616154171551_n.jpg
END:VEVENT
BEGIN:VEVENT
DTSTART;TZID=America/Los_Angeles:20251117T180000
DTEND;TZID=America/Los_Angeles:20251117T190000
DTSTAMP:20260424T204354
CREATED:20250304T235128Z
LAST-MODIFIED:20251117T235140Z
UID:21152-1763402400-1763406000@sfleatherdistrict.org
SUMMARY:LCD: Diversity Committee
DESCRIPTION:Due to travel plans and illness\, the Diversity Committee meeting has been rescheduled to Monday\, November 17th.  \nThe Diversity Committee guides efforts to increase District membership with an emphasis on representing all members of our community. \nDiversity part I- outreach to groups and gain attendance from all clubs and groups within our community\nDiversity part II- ensure our committees are functioning from a viewpoint of diversity in their structure and event planning. \nJoin Zoom Meeting\nhttps://us02web.zoom.us/j/83963228562 \nMeeting ID: 839 6322 8562
URL:https://sfleatherdistrict.org/event/lcd-diversity-committee-2/
LOCATION:584 Castro St #140\, San Francisco\, CA\, United States\, California 94114
CATEGORIES:Committee Meetings
ATTACH;FMTTYPE=image/jpeg:https://sfleatherdistrict.org/wp-content/uploads/2025/03/21152_image_487172833_1075839231251804_1600437917469146409_n.jpg
END:VEVENT
BEGIN:VEVENT
DTSTART;TZID=America/Los_Angeles:20251119T180000
DTEND;TZID=America/Los_Angeles:20251119T200000
DTSTAMP:20260424T204354
CREATED:20241030T235127Z
LAST-MODIFIED:20251119T235138Z
UID:20282-1763575200-1763582400@sfleatherdistrict.org
SUMMARY:LCD: Board of Directors Meeting
DESCRIPTION:Board of Directors Meeting \nThe meeting is free and all community members are welcome to attend. \nPlease join us remotely via Zoom:\nhttp://us02web.zoom.us/j/84789060820…\nYou can also call 1 669 900 6833 US (San Jose) and use Meeting ID: 847 8906 0820\nPasscode: 972086\nOne tap mobile (Or find your local number: https://us02web.zoom.us/u/kl0fPTq3u)\nBoard meeting minutes will be available after they are approved at the following meeting. \nFor more info\, visit http://www.sflcd.org.
URL:https://sfleatherdistrict.org/event/lcd-board-of-directors-meeting-41/
LOCATION:584 Castro St #140\, San Francisco\, CA\, United States\, California 94114
CATEGORIES:Committee Meetings
ATTACH;FMTTYPE=image/jpeg:https://sfleatherdistrict.org/wp-content/uploads/2024/10/20282_image_485686111_1070215948480799_585867454631784482_n.jpg
END:VEVENT
BEGIN:VEVENT
DTSTART;TZID=America/Los_Angeles:20251120T180000
DTEND;TZID=America/Los_Angeles:20251120T190000
DTSTAMP:20260424T204354
CREATED:20241030T235126Z
LAST-MODIFIED:20251120T235142Z
UID:20280-1763661600-1763665200@sfleatherdistrict.org
SUMMARY:LCD: Arts and Culture Committee Meeting
DESCRIPTION:The LEATHER & LGBTQ Cultural District’s Arts and Culture Committee is dedicated to reactivating Folsom Street and environs as a cultural and community hub. \nWe are actively recruiting artists for exhibits and other projects\, and in leadership roles in our organization. We also provide support for District events. \nThe meeting is free\, and open to all.\nJoin with Zoom at: https://us02web.zoom.us/j/89554242702 or call 1 408 638 0968 and use Meeting ID: 895 5424 2702.\nWe hope you will join us!
URL:https://sfleatherdistrict.org/event/lcd-arts-and-culture-committee-meeting-52/
LOCATION:584 Castro St #140\, San Francisco\, CA\, United States\, California 94114
CATEGORIES:Committee Meetings
ATTACH;FMTTYPE=image/jpeg:https://sfleatherdistrict.org/wp-content/uploads/2024/10/20280_image_485800349_1070216185147442_6736597857077362696_n.jpg
END:VEVENT
END:VCALENDAR