BEGIN:VCALENDAR
VERSION:2.0
PRODID:-//LEATHER &amp; LGBTQ Cultural District - ECPv6.15.20//NONSGML v1.0//EN
CALSCALE:GREGORIAN
METHOD:PUBLISH
X-WR-CALNAME:LEATHER &amp; LGBTQ Cultural District
X-ORIGINAL-URL:https://sfleatherdistrict.org
X-WR-CALDESC:Events for LEATHER &amp; LGBTQ Cultural District
REFRESH-INTERVAL;VALUE=DURATION:PT1H
X-Robots-Tag:noindex
X-PUBLISHED-TTL:PT1H
BEGIN:VTIMEZONE
TZID:America/Los_Angeles
BEGIN:DAYLIGHT
TZOFFSETFROM:-0800
TZOFFSETTO:-0700
TZNAME:PDT
DTSTART:20240310T100000
END:DAYLIGHT
BEGIN:STANDARD
TZOFFSETFROM:-0700
TZOFFSETTO:-0800
TZNAME:PST
DTSTART:20241103T090000
END:STANDARD
BEGIN:DAYLIGHT
TZOFFSETFROM:-0800
TZOFFSETTO:-0700
TZNAME:PDT
DTSTART:20250309T100000
END:DAYLIGHT
BEGIN:STANDARD
TZOFFSETFROM:-0700
TZOFFSETTO:-0800
TZNAME:PST
DTSTART:20251102T090000
END:STANDARD
BEGIN:DAYLIGHT
TZOFFSETFROM:-0800
TZOFFSETTO:-0700
TZNAME:PDT
DTSTART:20260308T100000
END:DAYLIGHT
BEGIN:STANDARD
TZOFFSETFROM:-0700
TZOFFSETTO:-0800
TZNAME:PST
DTSTART:20261101T090000
END:STANDARD
END:VTIMEZONE
BEGIN:VEVENT
DTSTART;TZID=America/Los_Angeles:20250605T180000
DTEND;TZID=America/Los_Angeles:20250605T190000
DTSTAMP:20260425T205450
CREATED:20250304T235142Z
LAST-MODIFIED:20250603T235137Z
UID:21167-1749146400-1749150000@sfleatherdistrict.org
SUMMARY:LCD: Diversity Committee
DESCRIPTION:The Diversity Committee guides efforts to increase District membership with an emphasis on representing all members of our community. \nDiversity part I- outreach to groups and gain attendance from all clubs and groups within our community\nDiversity part II- ensure our committees are functioning from a viewpoint of diversity in their structure and event planning. \nJoin Zoom Meeting\nhttps://us02web.zoom.us/j/83963228562 \nMeeting ID: 839 6322 8562
URL:https://sfleatherdistrict.org/event/lcd-diversity-committee-7/
LOCATION:584 Castro St #140\, San Francisco\, CA\, United States\, California 94114
CATEGORIES:Committee Meetings
ATTACH;FMTTYPE=image/jpeg:https://sfleatherdistrict.org/wp-content/uploads/2025/03/21167_image_487058168_1075833787919015_5740193185011064605_n.jpg
END:VEVENT
BEGIN:VEVENT
DTSTART;TZID=America/Los_Angeles:20250609T180000
DTEND;TZID=America/Los_Angeles:20250609T190000
DTSTAMP:20260425T205450
CREATED:20241202T235130Z
LAST-MODIFIED:20250609T235135Z
UID:20604-1749492000-1749495600@sfleatherdistrict.org
SUMMARY:LCD: Membership Committee Meeting
DESCRIPTION:The Membership Committee Meeting guides efforts to increase District membership with an emphasis on representing all members of our community. \nSecond Mondays at 6 pm Pacific Time \nJoin us on Zoom:\nhttps://us02web.zoom.us/j/87865884248 \nFunctions of this Committee:\nMembership drive and process  \nHope you can join us!
URL:https://sfleatherdistrict.org/event/lcd-diversity-membership-committee-meeting-57/
LOCATION:LEATHER & LGBTQ Cultural District
CATEGORIES:Committee Meetings
ATTACH;FMTTYPE=image/jpeg:https://sfleatherdistrict.org/wp-content/uploads/2024/12/20604_image_487542098_1075834344585626_5966517676967818157_n.jpg
END:VEVENT
BEGIN:VEVENT
DTSTART;TZID=America/Los_Angeles:20250616T180000
DTEND;TZID=America/Los_Angeles:20250616T190000
DTSTAMP:20260425T205450
CREATED:20241030T235149Z
LAST-MODIFIED:20250616T235150Z
UID:20326-1750096800-1750100400@sfleatherdistrict.org
SUMMARY:LCD: Land Use Committee Meeting
DESCRIPTION:The Land Use Committee tracks changes to real estate in the District in order to mitigate the effects of development and gentrification. \nZoom Meeting\nhttps://us02web.zoom.us/j/85688294123\nMeeting ID: 856 8829 4123\nOne tap mobile\n+16694449171\,\,85688294123# US\n+16699006833\,\,85688294123# US (San Jose) \nThe Land Use Committee for the LEATHER & LGBTQ Cultural District is interacting with city agencies\, developers\, and a range of governmental and non-governmental stakeholders\, regarding a wide range of land use issues within the Cultural District in the South of Market neighborhood. \nThere are a wide range of opportunities for involvement\, from being on call to show up at a meeting in City Hall\, to critical negotiations with planners and developers. \nWhile special skills in real estate or civic planning are great\, anyone with an interest in the Cultural District is welcome to join.\nFor more information\, please visit http://SFLCD.org\, or contact land-use-chair@SFLCD.org.
URL:https://sfleatherdistrict.org/event/lcd-land-use-committee-meeting-68/
LOCATION:584 Castro St #140\, San Francisco\, CA\, United States\, California 94114
CATEGORIES:Committee Meetings
ATTACH;FMTTYPE=image/jpeg:https://sfleatherdistrict.org/wp-content/uploads/2024/10/20326_image_485195155_1070216161814111_8955138744658307826_n.jpg
END:VEVENT
BEGIN:VEVENT
DTSTART;TZID=America/Los_Angeles:20250617T180000
DTEND;TZID=America/Los_Angeles:20250617T190000
DTSTAMP:20260425T205450
CREATED:20241030T235148Z
LAST-MODIFIED:20250617T235153Z
UID:20324-1750183200-1750186800@sfleatherdistrict.org
SUMMARY:LCD: Communications Committee Meeting
DESCRIPTION:The meeting of the Communications Committee scheduled for tomorrow\, Thursday\, June 11\, is instead being merged with the Fundraising Committee meeting on Tuesday\, June 17\, at 6 pm in order for the committees to better collaborate on messaging for LeatherWalk. We will be using a different zoom link for this meeting only. Please see below for details. \nThe Zoom link for this meeting only is: https://us02web.zoom.us/j/83534735739. In July we will return to our regular schedule and link.The Communications Committee plans and guides the messaging and branding decisions for the District. \nPlease contact the committee chairs\, Bob Brown and Alicia (AB) Bee with any questions: bob.brown@sflcd.org\, aleciaburley@sflcd.org.
URL:https://sfleatherdistrict.org/event/lcd-communications-committee-meeting-9/
LOCATION:584 Castro St #140\, San Francisco\, CA\, United States\, California 94114
CATEGORIES:Committee Meetings
ATTACH;FMTTYPE=image/jpeg:https://sfleatherdistrict.org/wp-content/uploads/2024/10/20324_image_486063167_1070216335147427_2629820937428871037_n.jpg
END:VEVENT
BEGIN:VEVENT
DTSTART;TZID=America/Los_Angeles:20250618T180000
DTEND;TZID=America/Los_Angeles:20250618T200000
DTSTAMP:20260425T205450
CREATED:20241030T235147Z
LAST-MODIFIED:20250618T235154Z
UID:20322-1750269600-1750276800@sfleatherdistrict.org
SUMMARY:LCD: Board of Directors Meeting
DESCRIPTION:Board of Directors Meeting \nThe meeting is free and all community members are welcome to attend. \nPlease join us remotely via Zoom:\nhttp://us02web.zoom.us/j/84789060820…\nYou can also call 1 669 900 6833 US (San Jose) and use Meeting ID: 847 8906 0820\nPasscode: 972086\nOne tap mobile (Or find your local number: https://us02web.zoom.us/u/kl0fPTq3u) \nBoard meeting minutes will be available after they are approved at the following meeting. \nFor more info\, visit http://www.sflcd.org.
URL:https://sfleatherdistrict.org/event/lcd-board-of-directors-meeting-62/
LOCATION:584 Castro St #140\, San Francisco\, CA\, United States\, California 94114
CATEGORIES:Committee Meetings
ATTACH;FMTTYPE=image/jpeg:https://sfleatherdistrict.org/wp-content/uploads/2024/10/20322_image_485305774_1070215915147469_9185461136874810983_n.jpg
END:VEVENT
BEGIN:VEVENT
DTSTART;TZID=America/Los_Angeles:20250619T180000
DTEND;TZID=America/Los_Angeles:20250619T190000
DTSTAMP:20260425T205450
CREATED:20241030T235146Z
LAST-MODIFIED:20250619T235155Z
UID:20320-1750356000-1750359600@sfleatherdistrict.org
SUMMARY:LCD: Arts and Culture Committee Meeting
DESCRIPTION:The LEATHER & LGBTQ Cultural District’s Arts and Culture Committee is dedicated to reactivating Folsom Street and environs as a cultural and community hub. \nWe are actively recruiting artists for exhibits and other projects\, and in leadership roles in our organization. We also provide support for District events. \nThe meeting is free\, and open to all.\nJoin with Zoom at: https://us02web.zoom.us/j/89554242702 or call 1 408 638 0968 and use Meeting ID: 895 5424 2702.\nWe hope you will join us!
URL:https://sfleatherdistrict.org/event/lcd-arts-and-culture-committee-meeting-57/
LOCATION:584 Castro St #140\, San Francisco\, CA\, United States\, California 94114
CATEGORIES:Committee Meetings
ATTACH;FMTTYPE=image/jpeg:https://sfleatherdistrict.org/wp-content/uploads/2024/10/20320_image_485686404_1070215968480797_4455762750922580244_n.jpg
END:VEVENT
BEGIN:VEVENT
DTSTART;TZID=America/Los_Angeles:20250621T130000
DTEND;TZID=America/Los_Angeles:20250621T150000
DTSTAMP:20260425T205450
CREATED:20250611T235131Z
LAST-MODIFIED:20250620T235201Z
UID:22130-1750510800-1750518000@sfleatherdistrict.org
SUMMARY:Town Hall
DESCRIPTION:We exist to ensure there is a lively and vibrant home for our community of events\, businesses\, bars and organizations in SOMA. \nTwice a year\, we hold “Town Halls”\, to share information with our community and get feedback. \nLearn what the Cultural District has been doing!\nHear our plans for the year to come!\nShare your experiences and aspirations for the Cultural District!\nGive us feedback.Your opinions matter to us!\nEnjoy refreshments!\nBecome a member\, and receive our new Cultural District Pin!\nEveryone welcome!\nFree!\nOur communities need and deserve safe spaces to gather\, shop and play\, now more than ever\, we intend to keep that alive in San Francisco!
URL:https://sfleatherdistrict.org/event/town-hall/
LOCATION:Folsom Street
CATEGORIES:Committee Meetings
ATTACH;FMTTYPE=image/jpeg:https://sfleatherdistrict.org/wp-content/uploads/2025/06/22130_image_506651490_1135088775326849_8859269841853543255_n.jpg
END:VEVENT
BEGIN:VEVENT
DTSTART;TZID=America/Los_Angeles:20250622T130000
DTEND;TZID=America/Los_Angeles:20250622T150000
DTSTAMP:20260425T205450
CREATED:20250514T235133Z
LAST-MODIFIED:20250621T235154Z
UID:21974-1750597200-1750604400@sfleatherdistrict.org
SUMMARY:SOMA Origins: Bars\, Bathhouses\, & Beyond
DESCRIPTION:Join us on our free walking tour: SOMA Origins: Bars\, Bathhouses and Beyond \nNow a world-wide leather/kinky/queer destination\, SOMA (South of Market) began attracting leather bars in the ’60’s. Find out why!\nLearn about the raucous exploits of the ’70’s\, when motorcycles lined the streets outside popular bars. \nHear about today’s bars and clubs\, and what they used to be\, including one on Folsom with a swimming pool. \nThe tour starts at the corner of Ringold Alley and 9th Street (i.e. on 9th\, halfway between Folsom and Harrison Streets).It ends at 8th and Ringold. \nThe tour runs 2 hours.We walk just under a mile\, and there are no hills.It is free\, but registration is required. https://sfleatherdistrict.org/soma-tours/ \nNext tour dates:\nSunday\, July 20\, 1 pm
URL:https://sfleatherdistrict.org/event/soma-origins-bars-bathhouses-beyond-6/
LOCATION:Ringold Street at 9th Street
CATEGORIES:Committee Meetings
ATTACH;FMTTYPE=image/jpeg:https://sfleatherdistrict.org/wp-content/uploads/2025/05/21974_image_497611406_1113652364137157_6214320659690607517_n.jpg
END:VEVENT
BEGIN:VEVENT
DTSTART;TZID=America/Los_Angeles:20250629T110000
DTEND;TZID=America/Los_Angeles:20250629T180000
DTSTAMP:20260425T205450
CREATED:20250603T235133Z
LAST-MODIFIED:20250629T235157Z
UID:22109-1751194800-1751220000@sfleatherdistrict.org
SUMMARY:LEATHER & LGBTQ Cultural District Present: Leather Alley in Root of Pride!
DESCRIPTION:The LEATHER & LGBTQ Cultural District is thrilled to announce that we are hosting this year’s Leather Alley within “Root of Pride” on Pride Sunday! \nJoin us for a day out in the sun where we celebrate sexual diversity\, freedom\, and the breath of leather and kink! Let us take it to the street\, where we will be unabashedly authentic in who we are\, surrounded by our community and proudly stating that “We are HERE!”  \nThis year’s Leather Alley features: \n– Community: Visit booths from local kink and leather organizations\n– Open Air Play: Make use of our kink furniture and try out a new experience\n– On Stage: Kinky Demonstrations to whet your whistle and spark your curiosity\n– Vibes: Live DJs!We proudly welcome DJ Sucia and DJ Beat Rider! \nWe’re ready to turn up the heat in an immersive celebration of kink\, leather and liberation!Whether you’re curious\, connected\, or just kink-positive\, this is the place to explore\, learn and play.  \n🖤💙 Volunteer with Leather Alley! 💙🖤 \nWe’re looking for awesome folks to help out—collecting donations\, handing out snacks + water\, keeping things clean\, signing waivers\, and spreading good vibes. Be a Leather Alley ambassador and show your pride!  \nSign up today! 🖤💙🤍volunteersignup.org/EJER3 \nThe LEATHER & LGBTQ Cultural District: \nWe exist to ensure there is a lively and vibrant home for our community of events\, businesses\, bars and organizations in SOMA. \nOur communities need and deserve safe spaces to gather\, shop and play\, now more than ever\, we intend to keep that alive in San Francisco! \nWhat we do: \nKeeping SOMA Kinky and Queer by lobbying city hall to allow bathhouses\, installing public art like murals\, leather pride flags on light poles\, activating community artists and performers\, continuing economic development through our Entrepreneur Program\, and producing events and walking tours.
URL:https://sfleatherdistrict.org/event/leather-lgbtq-cultural-district-present-leather-alley-in-root-of-pride/
LOCATION:Polk and Golden Gate\, San Francisco\, CA\, US
CATEGORIES:Committee Meetings
ATTACH;FMTTYPE=image/jpeg:https://sfleatherdistrict.org/wp-content/uploads/2025/06/22109_image_503703460_1128910319278028_7359742335369875096_n.jpg
END:VEVENT
END:VCALENDAR